BEGIN:VCALENDAR
VERSION:2.0
PRODID:spatie/icalendar-generator
DESCRIPTION:Events from Narcotics Anonymous Hawai&amp;#039\;i
X-WR-CALDESC:Events from Narcotics Anonymous Hawai&amp;#039\;i
REFRESH-INTERVAL;VALUE=DURATION:PT1440M
X-PUBLISHED-TTL:PT1440M
BEGIN:VTIMEZONE
TZID:Pacific/Honolulu
BEGIN:STANDARD
DTSTART:20250811T120000Z
TZOFFSETFROM:-1000
TZOFFSETTO:-1000
END:STANDARD
END:VTIMEZONE
BEGIN:VTIMEZONE
TZID:UTC
BEGIN:STANDARD
DTSTART:20250726T195551Z
TZOFFSETFROM:+0000
TZOFFSETTO:+0000
END:STANDARD
END:VTIMEZONE
BEGIN:VEVENT
UID:1081-100
DTSTAMP:20260422T195551Z
SUMMARY:Mana Kane Oahu NA Men’s Retreat (New date due to flooding)
LOCATION:Camp Waianae 85-1508 Haleahi Road Waianae Hawaii 96792
ORGANIZER;CN=HRSCSec:MAILTO:secretary@na-hawaii.org
DTSTART;TZID=Pacific/Honolulu:20260508T120000
DTEND;TZID=Pacific/Honolulu:20260510T123000
X-ALT-DESC;FMTTYPE=TEXT/HTML:Mana Kane “Spiritual Power of Man” The Man
 a Kane Men's Retreat will provide you with the opportunity to step away fr
 om the noise and distraction\, away from “Life on Life’s Terms” to a
  quiet place surrounded by nature and to encounter as well as to engage wi
 th your spiritual self. This retreat will help you&amp;hellip\;
CATEGORIES:General
URL;VALUE=URI:https://na-hawaii.org/mc-events/mana-kane-oahu-na-mens-retrea
 t-new-date-due-to-flooding/
METHOD:PUBLISH
END:VEVENT
END:VCALENDAR